BEGIN:VCALENDAR
VERSION:2.0
PRODID:-//Eastern Band of Cherokee Indians - ECPv6.15.20//NONSGML v1.0//EN
CALSCALE:GREGORIAN
METHOD:PUBLISH
X-WR-CALNAME:Eastern Band of Cherokee Indians
X-ORIGINAL-URL:https://phhs.ebci-nsn.gov
X-WR-CALDESC:Events for Eastern Band of Cherokee Indians
REFRESH-INTERVAL;VALUE=DURATION:PT1H
X-Robots-Tag:noindex
X-PUBLISHED-TTL:PT1H
BEGIN:VTIMEZONE
TZID:America/New_York
BEGIN:DAYLIGHT
TZOFFSETFROM:-0500
TZOFFSETTO:-0400
TZNAME:EDT
DTSTART:20250309T070000
END:DAYLIGHT
BEGIN:STANDARD
TZOFFSETFROM:-0400
TZOFFSETTO:-0500
TZNAME:EST
DTSTART:20251102T060000
END:STANDARD
BEGIN:DAYLIGHT
TZOFFSETFROM:-0500
TZOFFSETTO:-0400
TZNAME:EDT
DTSTART:20260308T070000
END:DAYLIGHT
BEGIN:STANDARD
TZOFFSETFROM:-0400
TZOFFSETTO:-0500
TZNAME:EST
DTSTART:20261101T060000
END:STANDARD
BEGIN:DAYLIGHT
TZOFFSETFROM:-0500
TZOFFSETTO:-0400
TZNAME:EDT
DTSTART:20270314T070000
END:DAYLIGHT
BEGIN:STANDARD
TZOFFSETFROM:-0400
TZOFFSETTO:-0500
TZNAME:EST
DTSTART:20271107T060000
END:STANDARD
END:VTIMEZONE
BEGIN:VEVENT
DTSTART;TZID=America/New_York:20260427T120000
DTEND;TZID=America/New_York:20260427T124500
DTSTAMP:20260425T082623
CREATED:20260112T150741Z
LAST-MODIFIED:20260112T150741Z
UID:4620-1777291200-1777293900@phhs.ebci-nsn.gov
SUMMARY:Beginner Pilates
DESCRIPTION:
URL:https://phhs.ebci-nsn.gov/event/beginner-pilates-13/
LOCATION:NC
ATTACH;FMTTYPE=image/jpeg:https://phhs.ebci-nsn.gov/wp-content/uploads/2026/01/Beginner-Pilates-2026.jpg
END:VEVENT
BEGIN:VEVENT
DTSTART;TZID=America/New_York:20260428T150000
DTEND;TZID=America/New_York:20260428T190000
DTSTAMP:20260425T082623
CREATED:20260401T133137Z
LAST-MODIFIED:20260413T125102Z
UID:4992-1777388400-1777402800@phhs.ebci-nsn.gov
SUMMARY:Cherokee Autism/IDD Celebration 2026
DESCRIPTION:
URL:https://phhs.ebci-nsn.gov/event/cherokee-autism-idd-celebration-2026/
LOCATION:Old High School Site\, 1501 Acquoni Road\, Cherokee\, 28719\, United States
ATTACH;FMTTYPE=image/jpeg:https://phhs.ebci-nsn.gov/wp-content/uploads/2026/04/Autism-Celebration-2026-event.jpg
END:VEVENT
BEGIN:VEVENT
DTSTART;VALUE=DATE:20260429
DTEND;VALUE=DATE:20260430
DTSTAMP:20260425T082623
CREATED:20260401T133732Z
LAST-MODIFIED:20260401T133732Z
UID:4998-1777420800-1777507199@phhs.ebci-nsn.gov
SUMMARY:Denim Day
DESCRIPTION:
URL:https://phhs.ebci-nsn.gov/event/denim-day/
LOCATION:NC
ATTACH;FMTTYPE=image/jpeg:https://phhs.ebci-nsn.gov/wp-content/uploads/2026/04/Denim-Day-2026.jpg
END:VEVENT
BEGIN:VEVENT
DTSTART;TZID=America/New_York:20260430T120000
DTEND;TZID=America/New_York:20260430T130000
DTSTAMP:20260425T082623
CREATED:20260305T140306Z
LAST-MODIFIED:20260305T140306Z
UID:4812-1777550400-1777554000@phhs.ebci-nsn.gov
SUMMARY:Move and Meal Prep
DESCRIPTION:
URL:https://phhs.ebci-nsn.gov/event/move-and-meal-prep-6/
LOCATION:NC
ATTACH;FMTTYPE=image/jpeg:https://phhs.ebci-nsn.gov/wp-content/uploads/2026/03/Move-and-Meal-Prep-2026.jpg
END:VEVENT
BEGIN:VEVENT
DTSTART;TZID=America/New_York:20260501T090000
DTEND;TZID=America/New_York:20260501T140000
DTSTAMP:20260425T082623
CREATED:20260413T124530Z
LAST-MODIFIED:20260413T124530Z
UID:5018-1777626000-1777644000@phhs.ebci-nsn.gov
SUMMARY:Veterans Stand Down
DESCRIPTION:
URL:https://phhs.ebci-nsn.gov/event/veterans-stand-down/
LOCATION:Peaches Squirrell Sports and Recreation Complex\, 1212 Bird Town Road\, Cherokee\, NC\, 28719\, United States
ATTACH;FMTTYPE=image/png:https://phhs.ebci-nsn.gov/wp-content/uploads/2026/04/Veterans-Stand-Down_Ver2.png
END:VEVENT
BEGIN:VEVENT
DTSTART;TZID=America/New_York:20260501T120000
DTEND;TZID=America/New_York:20260501T130000
DTSTAMP:20260425T082623
CREATED:20260326T195652Z
LAST-MODIFIED:20260326T195652Z
UID:4968-1777636800-1777640400@phhs.ebci-nsn.gov
SUMMARY:Positive Indian Parenting
DESCRIPTION:
URL:https://phhs.ebci-nsn.gov/event/positive-indian-parenting/
LOCATION:Cherokee Choices\, 806 Acquoni road\, Cherokee\, NC\, 28719\, United States
ATTACH;FMTTYPE=image/jpeg:https://phhs.ebci-nsn.gov/wp-content/uploads/2026/03/PIP-May-2026.jpg
END:VEVENT
BEGIN:VEVENT
DTSTART;TZID=America/New_York:20260505T120000
DTEND;TZID=America/New_York:20260505T130000
DTSTAMP:20260425T082623
CREATED:20260326T195748Z
LAST-MODIFIED:20260326T195748Z
UID:4971-1777982400-1777986000@phhs.ebci-nsn.gov
SUMMARY:Positive Indian Parenting
DESCRIPTION:
URL:https://phhs.ebci-nsn.gov/event/positive-indian-parenting-2/
LOCATION:Cherokee Choices\, 806 Acquoni road\, Cherokee\, NC\, 28719\, United States
ATTACH;FMTTYPE=image/jpeg:https://phhs.ebci-nsn.gov/wp-content/uploads/2026/03/PIP-May-2026.jpg
END:VEVENT
BEGIN:VEVENT
DTSTART;TZID=America/New_York:20260505T150000
DTEND;TZID=America/New_York:20260505T190000
DTSTAMP:20260425T082623
CREATED:20260413T123655Z
LAST-MODIFIED:20260413T123655Z
UID:5013-1777993200-1778007600@phhs.ebci-nsn.gov
SUMMARY:Snowbird From Darkness Into Hope
DESCRIPTION:
URL:https://phhs.ebci-nsn.gov/event/snowbird-from-darkness-into-hope/
LOCATION:P&J Fields\, 191 P and J Road\, Robbinsville\, NC\, 28771ddddddddddddddddddddddddddddddddddddddddddddddddddddd\, United States
ATTACH;FMTTYPE=image/png:https://phhs.ebci-nsn.gov/wp-content/uploads/2026/04/Snowbird-FDIH-Event-Info.png
END:VEVENT
BEGIN:VEVENT
DTSTART;TZID=America/New_York:20260506T110000
DTEND;TZID=America/New_York:20260506T170000
DTSTAMP:20260425T082624
CREATED:20260413T130004Z
LAST-MODIFIED:20260413T130004Z
UID:5023-1778065200-1778086800@phhs.ebci-nsn.gov
SUMMARY:Community Baby Shower
DESCRIPTION:
URL:https://phhs.ebci-nsn.gov/event/community-baby-shower/
LOCATION:Peaches Squirrell Sports and Recreation Complex\, 1212 Bird Town Road\, Cherokee\, NC\, 28719\, United States
ATTACH;FMTTYPE=image/png:https://phhs.ebci-nsn.gov/wp-content/uploads/2026/04/NFP-Baby-Shower-Flyer-2026.png
END:VEVENT
BEGIN:VEVENT
DTSTART;TZID=America/New_York:20260507T074500
DTEND;TZID=America/New_York:20260507T163000
DTSTAMP:20260425T082624
CREATED:20260219T201301Z
LAST-MODIFIED:20260401T144006Z
UID:4789-1778139900-1778171400@phhs.ebci-nsn.gov
SUMMARY:Syllabary Class | Day 1
DESCRIPTION:
URL:https://phhs.ebci-nsn.gov/event/syllabary-class-2/
LOCATION:NC
ATTACH;FMTTYPE=image/jpeg:https://phhs.ebci-nsn.gov/wp-content/uploads/2026/02/Syllabary-Class-Flyer-2026.jpg
END:VEVENT
BEGIN:VEVENT
DTSTART;TZID=America/New_York:20260508T074500
DTEND;TZID=America/New_York:20260508T163000
DTSTAMP:20260425T082624
CREATED:20260401T144338Z
LAST-MODIFIED:20260401T144338Z
UID:5005-1778226300-1778257800@phhs.ebci-nsn.gov
SUMMARY:Syllabary Class | Day 2
DESCRIPTION:
URL:https://phhs.ebci-nsn.gov/event/syllabary-class-day-2/
LOCATION:NC
ATTACH;FMTTYPE=image/jpeg:https://phhs.ebci-nsn.gov/wp-content/uploads/2026/02/Syllabary-Class-Flyer-2026.jpg
END:VEVENT
BEGIN:VEVENT
DTSTART;TZID=America/New_York:20260508T120000
DTEND;TZID=America/New_York:20260508T130000
DTSTAMP:20260425T082624
CREATED:20260326T195852Z
LAST-MODIFIED:20260326T195852Z
UID:4973-1778241600-1778245200@phhs.ebci-nsn.gov
SUMMARY:Positive Indian Parenting
DESCRIPTION:
URL:https://phhs.ebci-nsn.gov/event/positive-indian-parenting-3/
LOCATION:Cherokee Choices\, 806 Acquoni road\, Cherokee\, NC\, 28719\, United States
ATTACH;FMTTYPE=image/jpeg:https://phhs.ebci-nsn.gov/wp-content/uploads/2026/03/PIP-May-2026.jpg
END:VEVENT
BEGIN:VEVENT
DTSTART;TZID=America/New_York:20260512T120000
DTEND;TZID=America/New_York:20260512T130000
DTSTAMP:20260425T082624
CREATED:20260326T195946Z
LAST-MODIFIED:20260326T195946Z
UID:4975-1778587200-1778590800@phhs.ebci-nsn.gov
SUMMARY:Positive Indian Parenting
DESCRIPTION:
URL:https://phhs.ebci-nsn.gov/event/positive-indian-parenting-4/
LOCATION:Cherokee Choices\, 806 Acquoni road\, Cherokee\, NC\, 28719\, United States
ATTACH;FMTTYPE=image/jpeg:https://phhs.ebci-nsn.gov/wp-content/uploads/2026/03/PIP-May-2026.jpg
END:VEVENT
BEGIN:VEVENT
DTSTART;TZID=America/New_York:20260514T083000
DTEND;TZID=America/New_York:20260514T153000
DTSTAMP:20260425T082624
CREATED:20260326T193848Z
LAST-MODIFIED:20260326T193848Z
UID:4963-1778747400-1778772600@phhs.ebci-nsn.gov
SUMMARY:Resources for Resiliency 2-Day Wellness Workshop
DESCRIPTION:
URL:https://phhs.ebci-nsn.gov/event/resources-for-resiliency-2-day-wellness-workshop/
LOCATION:NC
ATTACH;FMTTYPE=image/jpeg:https://phhs.ebci-nsn.gov/wp-content/uploads/2026/03/RFR-may-26.jpg
END:VEVENT
BEGIN:VEVENT
DTSTART;TZID=America/New_York:20260515T083000
DTEND;TZID=America/New_York:20260515T153000
DTSTAMP:20260425T082624
CREATED:20260326T193958Z
LAST-MODIFIED:20260326T193958Z
UID:4966-1778833800-1778859000@phhs.ebci-nsn.gov
SUMMARY:Resources for Resiliency 2-Day Wellness Workshop
DESCRIPTION:
URL:https://phhs.ebci-nsn.gov/event/resources-for-resiliency-2-day-wellness-workshop-2/
LOCATION:NC
ATTACH;FMTTYPE=image/jpeg:https://phhs.ebci-nsn.gov/wp-content/uploads/2026/03/RFR-may-26.jpg
END:VEVENT
BEGIN:VEVENT
DTSTART;TZID=America/New_York:20260519T120000
DTEND;TZID=America/New_York:20260519T130000
DTSTAMP:20260425T082624
CREATED:20260326T200041Z
LAST-MODIFIED:20260326T200041Z
UID:4977-1779192000-1779195600@phhs.ebci-nsn.gov
SUMMARY:Positive Indian Parenting
DESCRIPTION:
URL:https://phhs.ebci-nsn.gov/event/positive-indian-parenting-5/
LOCATION:Cherokee Choices\, 806 Acquoni road\, Cherokee\, NC\, 28719\, United States
ATTACH;FMTTYPE=image/jpeg:https://phhs.ebci-nsn.gov/wp-content/uploads/2026/03/PIP-May-2026.jpg
END:VEVENT
BEGIN:VEVENT
DTSTART;TZID=America/New_York:20260522T120000
DTEND;TZID=America/New_York:20260522T130000
DTSTAMP:20260425T082624
CREATED:20260326T200126Z
LAST-MODIFIED:20260326T200126Z
UID:4979-1779451200-1779454800@phhs.ebci-nsn.gov
SUMMARY:Positive Indian Parenting
DESCRIPTION:
URL:https://phhs.ebci-nsn.gov/event/positive-indian-parenting-6/
LOCATION:Cherokee Choices\, 806 Acquoni road\, Cherokee\, NC\, 28719\, United States
ATTACH;FMTTYPE=image/jpeg:https://phhs.ebci-nsn.gov/wp-content/uploads/2026/03/PIP-May-2026.jpg
END:VEVENT
BEGIN:VEVENT
DTSTART;TZID=America/New_York:20260526T120000
DTEND;TZID=America/New_York:20260526T130000
DTSTAMP:20260425T082624
CREATED:20260326T200214Z
LAST-MODIFIED:20260326T200214Z
UID:4981-1779796800-1779800400@phhs.ebci-nsn.gov
SUMMARY:Positive Indian Parenting
DESCRIPTION:
URL:https://phhs.ebci-nsn.gov/event/positive-indian-parenting-7/
LOCATION:Cherokee Choices\, 806 Acquoni road\, Cherokee\, NC\, 28719\, United States
ATTACH;FMTTYPE=image/jpeg:https://phhs.ebci-nsn.gov/wp-content/uploads/2026/03/PIP-May-2026.jpg
END:VEVENT
BEGIN:VEVENT
DTSTART;TZID=America/New_York:20260529T120000
DTEND;TZID=America/New_York:20260529T130000
DTSTAMP:20260425T082624
CREATED:20260326T200258Z
LAST-MODIFIED:20260326T200258Z
UID:4983-1780056000-1780059600@phhs.ebci-nsn.gov
SUMMARY:Positive Indian Parenting
DESCRIPTION:
URL:https://phhs.ebci-nsn.gov/event/positive-indian-parenting-8/
LOCATION:Cherokee Choices\, 806 Acquoni road\, Cherokee\, NC\, 28719\, United States
ATTACH;FMTTYPE=image/jpeg:https://phhs.ebci-nsn.gov/wp-content/uploads/2026/03/PIP-May-2026.jpg
END:VEVENT
BEGIN:VEVENT
DTSTART;TZID=America/New_York:20260601T080000
DTEND;TZID=America/New_York:20260612T170000
DTSTAMP:20260425T082624
CREATED:20260326T200518Z
LAST-MODIFIED:20260326T200518Z
UID:4985-1780300800-1781283600@phhs.ebci-nsn.gov
SUMMARY:2026 Cherokee Choices Summer Camp
DESCRIPTION:
URL:https://phhs.ebci-nsn.gov/event/2026-cherokee-choices-summer-camp/
LOCATION:NC
ATTACH;FMTTYPE=image/jpeg:https://phhs.ebci-nsn.gov/wp-content/uploads/2026/03/26-Summer-Camp.jpg
END:VEVENT
END:VCALENDAR